BEGIN:VCALENDAR
VERSION:2.0
CALSCALE:GREGORIAN
PRODID:adamgibbons/ics
METHOD:PUBLISH
X-PUBLISHED-TTL:PT1H
BEGIN:VEVENT
UID:721@calendar.klank.school
SUMMARY:Clothes Swap
DTSTAMP:20260420T203000Z
DTSTART:20260513T170000Z
DTEND:20260513T190000Z
URL:https://calendar.klank.school/event/clothes-swap-1
LOCATION:Het Poortgebouw - Het Poortgebouw Stieltjesstraat 38  Rotterdam Ne
	therlands
STATUS:CONFIRMED
CATEGORIES:category::(free) shop/market,libspeciaal::lastmod::1768306931,li
	bspeciaal::price::free,libspeciaal::source::radar,libspeciaal::source::rad
	ar::poortgebouw,libspeciaal::uid::d5a5b157-7df8-4cac-95bf-49363c8042f1,lib
	speciaal::url::https://radar.squat.net/en/event/rotterdam/het-poortgebouw/
	2026-05-13/clothes-swap
END:VEVENT
END:VCALENDAR
