BEGIN:VCALENDAR
VERSION:2.0
CALSCALE:GREGORIAN
PRODID:adamgibbons/ics
METHOD:PUBLISH
X-PUBLISHED-TTL:PT1H
BEGIN:VEVENT
UID:711@calendar.klank.school
SUMMARY:General assembly and introduction moment
DTSTAMP:20260420T203152Z
DTSTART:20260510T150000Z
DTEND:20260510T180000Z
URL:https://calendar.klank.school/event/general-assembly-and-introduction-m
	oment
LOCATION:Rotterdam - Rotterdam
STATUS:CONFIRMED
CATEGORIES:category::meeting,libspeciaal::email::buurtoren@riseup.net,libsp
	eciaal::lastmod::1763932165,libspeciaal::link::https://buurtoren.nl,libspe
	ciaal::price::free,libspeciaal::source::radar,libspeciaal::source::radar::
	buurtoren,libspeciaal::uid::cb084021-cd82-43f6-bf19-11637245c6e4,libspecia
	al::url::https://radar.squat.net/en/event/buurtoren/2026-05-10/general-ass
	embly-and-introduction-moment
END:VEVENT
END:VCALENDAR
