BEGIN:VCALENDAR
VERSION:2.0
CALSCALE:GREGORIAN
PRODID:adamgibbons/ics
METHOD:PUBLISH
X-PUBLISHED-TTL:PT1H
BEGIN:VEVENT
UID:726@calendar.klank.school
SUMMARY:Vrouwen voor Soedan: Informatieavond
DTSTAMP:20260420T173503Z
DTSTART:20260421T180000Z
DTEND:20260422T175900Z
URL:https://calendar.klank.school/event/vrouwen-voor-soedan-informatieavond
LOCATION:Leeszaal West - Rijnhoutplein 3\, 3014 TZ Rotterdam
STATUS:CONFIRMED
CATEGORIES:category::discussion/presentation,libspeciaal::all_day::true,lib
	speciaal::lastmod::1775994570,libspeciaal::price::free,libspeciaal::source
	::radar,libspeciaal::source::radar::rdam-alt-events,libspeciaal::uid::bf8a
	e52b-202a-49ea-abe1-ec5aba9900b6,libspeciaal::url::https://radar.squat.net
	/en/event/rotterdam/rotterdam-alternative-events/2026-04-21/vrouwen-voor-s
	oedan-informatieavond
END:VEVENT
END:VCALENDAR
