BEGIN:VCALENDAR
VERSION:2.0
CALSCALE:GREGORIAN
PRODID:adamgibbons/ics
METHOD:PUBLISH
X-PUBLISHED-TTL:PT1H
BEGIN:VEVENT
UID:718@calendar.klank.school
SUMMARY:☕ Open living room
DTSTAMP:20260420T202835Z
DTSTART:20260515T100000Z
DTEND:20260515T150000Z
URL:https://calendar.klank.school/event/hot-beverage-open-living-room-1
LOCATION:Petteflet - Petteflet Havenstraat 23A  Rotterdam Netherlands
STATUS:CONFIRMED
CATEGORIES:category::bar/cafe,category::work space/diy,libspeciaal::lastmod
	::1774869931,libspeciaal::source::radar,libspeciaal::source::radar::pettef
	let,libspeciaal::uid::805a228d-669f-4911-be73-e34a0dc0e8c7,libspeciaal::ur
	l::https://radar.squat.net/en/event/rotterdam/petteflet/2026-05-15/open-li
	ving-room
END:VEVENT
END:VCALENDAR
