BEGIN:VCALENDAR
VERSION:2.0
CALSCALE:GREGORIAN
PRODID:adamgibbons/ics
METHOD:PUBLISH
X-PUBLISHED-TTL:PT1H
BEGIN:VEVENT
UID:710@calendar.klank.school
SUMMARY:🚧 Construction workgroup 🚧
DTSTAMP:20260420T203136Z
DTSTART:20260516T220000Z
DTEND:20260517T215900Z
URL:https://calendar.klank.school/event/construction-workgroup-2
LOCATION:Rotterdam - Rotterdam
STATUS:CONFIRMED
CATEGORIES:category::work space/diy,libspeciaal::all_day::true,libspeciaal:
	:email::buurtoren@riseup.net,libspeciaal::lastmod::1771192560,libspeciaal:
	:link::https://buurtoren.nl,libspeciaal::price::free,libspeciaal::source::
	radar,libspeciaal::source::radar::buurtoren,libspeciaal::uid::2d265d05-14a
	c-49ed-8406-801c833dee60,libspeciaal::url::https://radar.squat.net/en/even
	t/buurtoren/2026-05-17/construction-workgroup
END:VEVENT
END:VCALENDAR
