BEGIN:VCALENDAR
VERSION:2.0
CALSCALE:GREGORIAN
PRODID:adamgibbons/ics
METHOD:PUBLISH
X-PUBLISHED-TTL:PT1H
BEGIN:VEVENT
UID:736@calendar.klank.school
SUMMARY:2QTs Beyond the Binary
DTSTAMP:20260420T155348Z
DTSTART:20260421T170000Z
DTEND:20260421T193000Z
URL:https://calendar.klank.school/event/2qts-beyond-the-binary
LOCATION:Time Window - Time Window Teilingerstraat 120  Rotterdam Netherlan
	ds
STATUS:CONFIRMED
CATEGORIES:category::course/workshop,libspeciaal::lastmod::1775995654,libsp
	eciaal::price::free,libspeciaal::source::radar,libspeciaal::source::radar:
	:rdam-alt-events,libspeciaal::uid::9c2561f0-129c-4a22-a287-92fdac0a4c74,li
	bspeciaal::url::https://radar.squat.net/en/event/rotterdam/rotterdam-alter
	native-events/2026-04-21/2qts-beyond-binary
END:VEVENT
END:VCALENDAR
