BEGIN:VCALENDAR
VERSION:2.0
CALSCALE:GREGORIAN
PRODID:adamgibbons/ics
METHOD:PUBLISH
X-PUBLISHED-TTL:PT1H
BEGIN:VEVENT
UID:719@calendar.klank.school
SUMMARY:Reticulum/Networking/Linux walk-in hours
DTSTAMP:20260420T155236Z
DTSTART:20260422T161500Z
DTEND:20260422T190000Z
URL:https://calendar.klank.school/event/reticulumnetworkinglinux-walk-in-ho
	urs
LOCATION:Havenstraat 23A - Havenstraat 23A  Rotterdam Netherlands
STATUS:CONFIRMED
CATEGORIES:category::advice/help/office hours,category::course/workshop,cat
	egory::work space/diy,libspeciaal::lastmod::1775855182,libspeciaal::price:
	:free,libspeciaal::source::radar,libspeciaal::source::radar::petteflet,lib
	speciaal::uid::57bbb598-8dcd-425c-8266-d10225cd4ea4,libspeciaal::url::http
	s://radar.squat.net/en/event/rotterdam/petteflet/2026-04-22/reticulum-netw
	orking-linux-walk-hours,topic::linux reticulum openwrt tech computers
END:VEVENT
END:VCALENDAR
