BEGIN:VCALENDAR
VERSION:2.0
CALSCALE:GREGORIAN
PRODID:adamgibbons/ics
METHOD:PUBLISH
X-PUBLISHED-TTL:PT1H
BEGIN:VEVENT
UID:717@calendar.klank.school
SUMMARY:📽️ Unusual Animation: no film this week :(
DTSTAMP:20260420T184307Z
DTSTART:20260503T174500Z
DTEND:20260504T174400Z
DESCRIPTION:This week's screening is cancelled. See you next week!
URL:https://calendar.klank.school/event/unusual-animation-no-film-this-week
LOCATION:Petteflet - Petteflet Havenstraat 23A  Rotterdam Netherlands
STATUS:CONFIRMED
CATEGORIES:libspeciaal::source::radar,libspeciaal::source::radar::petteflet
	,category::film,libspeciaal::all_day::true,libspeciaal::uid::42c6c57e-4b66
	-4d78-abd8-6acad415c540,libspeciaal::lastmod::1776257073,libspeciaal::url:
	:https://radar.squat.net/en/event/rotterdam/petteflet/2026-05-03/unusual-a
	nimation-no-film-week
X-ALT-DESC;FMTTYPE=text/html:<p>This week's screening is cancelled. See you
	 next week!</p><br>
BEGIN:VALARM
ACTION:DISPLAY
DESCRIPTION:📽️ Unusual Animation: no film this week :(
TRIGGER:-PT1H
END:VALARM
END:VEVENT
END:VCALENDAR
