BEGIN:VCALENDAR
VERSION:2.0
CALSCALE:GREGORIAN
PRODID:adamgibbons/ics
METHOD:PUBLISH
X-PUBLISHED-TTL:PT1H
BEGIN:VEVENT
UID:722@calendar.klank.school
SUMMARY:📽️ Unusual Animation: "Azur et Asmar" (2006)
DTSTAMP:20260420T184144Z
DTSTART:20260510T174500Z
DTEND:20260511T174400Z
DESCRIPTION:Doors open: 19:30\nFilm + discussion: 20:00\n\nAzur et Asmar (2
	006) by Michel Ocelot\n[https://en.wikipedia.org/wiki/Michel_Ocelot]\nA no
	ble french child is traumatically separated from his Maghrebi nurse and he
	r\nson\, who is like a brother to him. As an adult\, obsessed by the nurse
	's tales\nabout a legendary Djinn-princess\, he embarks for the Maghreb to
	 save and marry\nher. While still told from a Western perspective\, Ocelot
	's work remains\nrespectful of the culture portrayed\, avoiding most orien
	talist\n[https://en.wikipedia.org/wiki/Orientalism] tropes. The medium is 
	a very\nstylised\, early CGI [https://en.wikipedia.org/wiki/Computer_anima
	tion]\, with\nintricate depictions of plants\, food\, and buildings.\n\nPe
	tteflet has a toilet\, a kettle & tea bags\, and a microwave to warm up fo
	od. We\nare a vegetarian space\, so please do not bring any meat or fish.\
	n\nUnusual Animation film nights are free weekly screenings of relatively 
	obscure\nanimated films.
URL:https://calendar.klank.school/event/unusual-animation-azur-et-asmar-200
	6
LOCATION:Petteflet - Petteflet Havenstraat 23A  Rotterdam Netherlands
STATUS:CONFIRMED
CATEGORIES:libspeciaal::source::radar,libspeciaal::source::radar::petteflet
	,category::film,libspeciaal::price::free,libspeciaal::all_day::true,libspe
	ciaal::uid::c268730e-5853-4ac4-824e-4f8ca5e671c8,libspeciaal::lastmod::177
	6282612,libspeciaal::url::https://radar.squat.net/en/event/rotterdam/pette
	flet/2026-05-10/unusual-animation-azur-et-asmar-2006
X-ALT-DESC;FMTTYPE=text/html:<p>Doors open: 19:30<br>Film + discussion: 20:
	00<br><br><strong>Azur et Asmar</strong> (2006) by <a href="https://en.wik
	ipedia.org/wiki/Michel_Ocelot">Michel Ocelot</a><br>A noble french child i
	s traumatically separated from his Maghrebi nurse and her son, who is like
	 a brother to him. As an adult, obsessed by the nurse's tales about a lege
	ndary Djinn-princess, he embarks for the Maghreb to save and marry her. Wh
	ile still told from a Western perspective, Ocelot's work remains respectfu
	l of the culture portrayed, avoiding most <a href="https://en.wikipedia.or
	g/wiki/Orientalism">orientalist</a> tropes. The medium is a very stylised,
	 early <a href="https://en.wikipedia.org/wiki/Computer_animation">CGI</a>,
	 with intricate depictions of plants, food, and buildings.<br><br><strong>
	Petteflet</strong> has a toilet, a kettle &amp; tea bags, and a microwave 
	to warm up food. We are a vegetarian space, so please do not bring any mea
	t or fish.<br><br><strong>Unusual Animation</strong> film nights are free 
	weekly screenings of relatively obscure animated films.</p><br>
BEGIN:VALARM
ACTION:DISPLAY
DESCRIPTION:📽️ Unusual Animation: "Azur et Asmar" (2006)
TRIGGER:-PT1H
END:VALARM
END:VEVENT
END:VCALENDAR
