BEGIN:VCALENDAR
VERSION:2.0
CALSCALE:GREGORIAN
PRODID:adamgibbons/ics
METHOD:PUBLISH
X-PUBLISHED-TTL:PT1H
BEGIN:VEVENT
UID:723@calendar.klank.school
SUMMARY:The Revolution: Peoples Picnic (All Day)
DTSTAMP:20260420T184230Z
DTSTART:20260502T100000Z
DTEND:20260503T095900Z
DESCRIPTION:The revolutionary peoples picnic is a monthly event in a differ
	ent public space\nin Rotterdam with the goal of coming together and formin
	g connections between\npeople\, groups\, and struggles that we otherwise d
	ont get to hang out with much.\nTo build and strengthen the collective mov
	ement we implore people to invite\ntheir friends to show up so we can all 
	reconnect and rebuild the social fabric\nby reclaiming public space in Rot
	terdam. More info follows soon
URL:https://calendar.klank.school/event/the-revolution-peoples-picnic-all-d
	ay
LOCATION:Rotterdam - Rotterdam
STATUS:CONFIRMED
CATEGORIES:libspeciaal::source::radar,libspeciaal::source::radar::rdam-alt-
	events,category::food,libspeciaal::price::free,libspeciaal::all_day::true,
	category::music/concert,category::children's activity,libspeciaal::uid::6e
	fd9436-f9f1-4d1a-b8f5-72c5e5287df7,libspeciaal::lastmod::1776181861,libspe
	ciaal::url::https://radar.squat.net/en/event/rotterdam/rotterdam-alternati
	ve-events/2026-05-02/revolution-peoples-picnic-all-day,category::action/pr
	otest/camp
X-ALT-DESC;FMTTYPE=text/html:<p>The revolutionary peoples picnic is a month
	ly event in a different public space in Rotterdam with the goal of coming 
	together and forming connections between people, groups, and struggles tha
	t we otherwise dont get to hang out with much. To build and strengthen the
	 collective movement we implore people to invite their friends to show up 
	so we can all reconnect and rebuild the social fabric by reclaiming public
	 space in Rotterdam. More info follows soon</p><br>
BEGIN:VALARM
ACTION:DISPLAY
DESCRIPTION:The Revolution: Peoples Picnic (All Day)
TRIGGER:-PT1H
END:VALARM
END:VEVENT
END:VCALENDAR
